BEGIN:VCALENDAR
VERSION:2.0
PRODID:-//Nict Nact - ECPv6.3.5//NONSGML v1.0//EN
CALSCALE:GREGORIAN
METHOD:PUBLISH
X-ORIGINAL-URL:https://www.nictnact.it
X-WR-CALDESC:Eventi per Nict Nact
REFRESH-INTERVAL;VALUE=DURATION:PT1H
X-Robots-Tag:noindex
X-PUBLISHED-TTL:PT1H
BEGIN:VTIMEZONE
TZID:UTC
BEGIN:STANDARD
TZOFFSETFROM:+0000
TZOFFSETTO:+0000
TZNAME:UTC
DTSTART:20250101T000000
END:STANDARD
END:VTIMEZONE
BEGIN:VEVENT
DTSTART;TZID=UTC:20250303T090000
DTEND;TZID=UTC:20250303T180000
DTSTAMP:20260425T124813
CREATED:20241213T185636Z
LAST-MODIFIED:20241220T132415Z
UID:10001086-1740992400-1741024800@www.nictnact.it
SUMMARY:Help Desk Voltanict
DESCRIPTION:Hai dubbi\, domande o curiosità? Siamo qui per aiutarti! \nPuoi venire a trovarci presso la nostra sede: \n📍 Piazza Giacomo Matteotti n.3\, Catania \n🗓 Orari di apertura in sede (a partire dal 9 gennaio 2025): \nLunedì – Mercoledì – Venerdì  \nOrari 9:00 – 12:00 | 15:00 – 18:00 \n\n\n\nNON PUOI PARTECIPARE IN SEDE?\nNESSUN PROBLEMA!\n\n\n\n\n\nIl nostro help desk online è sempre disponibile nei giorni e orari indicati. \nPuoi collegarti comodamente online tramite Zoom \nLunedì – Mercoledì – Venerdì  \nOrari 9:00 – 12:00 | 15:00 – 18:00 \nCollegati con Zoom a questo link -> https://us06web.zoom.us/j/81408582092 \n 
URL:https://www.nictnact.it/event/help-desk-voltanict-2/2025-03-03/
LOCATION:piazza matteotti 3 Catania
CATEGORIES:Help Desk
END:VEVENT
BEGIN:VEVENT
DTSTART;TZID=UTC:20250305T090000
DTEND;TZID=UTC:20250305T180000
DTSTAMP:20260425T124813
CREATED:20241213T185636Z
LAST-MODIFIED:20241220T132415Z
UID:10001087-1741165200-1741197600@www.nictnact.it
SUMMARY:Help Desk Voltanict
DESCRIPTION:Hai dubbi\, domande o curiosità? Siamo qui per aiutarti! \nPuoi venire a trovarci presso la nostra sede: \n📍 Piazza Giacomo Matteotti n.3\, Catania \n🗓 Orari di apertura in sede (a partire dal 9 gennaio 2025): \nLunedì – Mercoledì – Venerdì  \nOrari 9:00 – 12:00 | 15:00 – 18:00 \n\n\n\nNON PUOI PARTECIPARE IN SEDE?\nNESSUN PROBLEMA!\n\n\n\n\n\nIl nostro help desk online è sempre disponibile nei giorni e orari indicati. \nPuoi collegarti comodamente online tramite Zoom \nLunedì – Mercoledì – Venerdì  \nOrari 9:00 – 12:00 | 15:00 – 18:00 \nCollegati con Zoom a questo link -> https://us06web.zoom.us/j/81408582092 \n 
URL:https://www.nictnact.it/event/help-desk-voltanict-2/2025-03-05/
LOCATION:piazza matteotti 3 Catania
CATEGORIES:Help Desk
END:VEVENT
BEGIN:VEVENT
DTSTART;TZID=UTC:20250307T090000
DTEND;TZID=UTC:20250307T180000
DTSTAMP:20260425T124813
CREATED:20241213T185636Z
LAST-MODIFIED:20241220T132415Z
UID:10001088-1741338000-1741370400@www.nictnact.it
SUMMARY:Help Desk Voltanict
DESCRIPTION:Hai dubbi\, domande o curiosità? Siamo qui per aiutarti! \nPuoi venire a trovarci presso la nostra sede: \n📍 Piazza Giacomo Matteotti n.3\, Catania \n🗓 Orari di apertura in sede (a partire dal 9 gennaio 2025): \nLunedì – Mercoledì – Venerdì  \nOrari 9:00 – 12:00 | 15:00 – 18:00 \n\n\n\nNON PUOI PARTECIPARE IN SEDE?\nNESSUN PROBLEMA!\n\n\n\n\n\nIl nostro help desk online è sempre disponibile nei giorni e orari indicati. \nPuoi collegarti comodamente online tramite Zoom \nLunedì – Mercoledì – Venerdì  \nOrari 9:00 – 12:00 | 15:00 – 18:00 \nCollegati con Zoom a questo link -> https://us06web.zoom.us/j/81408582092 \n 
URL:https://www.nictnact.it/event/help-desk-voltanict-2/2025-03-07/
LOCATION:piazza matteotti 3 Catania
CATEGORIES:Help Desk
END:VEVENT
BEGIN:VEVENT
DTSTART;TZID=UTC:20250310T090000
DTEND;TZID=UTC:20250310T180000
DTSTAMP:20260425T124813
CREATED:20241213T185636Z
LAST-MODIFIED:20241220T132415Z
UID:10001089-1741597200-1741629600@www.nictnact.it
SUMMARY:Help Desk Voltanict
DESCRIPTION:Hai dubbi\, domande o curiosità? Siamo qui per aiutarti! \nPuoi venire a trovarci presso la nostra sede: \n📍 Piazza Giacomo Matteotti n.3\, Catania \n🗓 Orari di apertura in sede (a partire dal 9 gennaio 2025): \nLunedì – Mercoledì – Venerdì  \nOrari 9:00 – 12:00 | 15:00 – 18:00 \n\n\n\nNON PUOI PARTECIPARE IN SEDE?\nNESSUN PROBLEMA!\n\n\n\n\n\nIl nostro help desk online è sempre disponibile nei giorni e orari indicati. \nPuoi collegarti comodamente online tramite Zoom \nLunedì – Mercoledì – Venerdì  \nOrari 9:00 – 12:00 | 15:00 – 18:00 \nCollegati con Zoom a questo link -> https://us06web.zoom.us/j/81408582092 \n 
URL:https://www.nictnact.it/event/help-desk-voltanict-2/2025-03-10/
LOCATION:piazza matteotti 3 Catania
CATEGORIES:Help Desk
END:VEVENT
BEGIN:VEVENT
DTSTART;TZID=UTC:20250312T090000
DTEND;TZID=UTC:20250312T180000
DTSTAMP:20260425T124813
CREATED:20241213T185636Z
LAST-MODIFIED:20241220T132415Z
UID:10001090-1741770000-1741802400@www.nictnact.it
SUMMARY:Help Desk Voltanict
DESCRIPTION:Hai dubbi\, domande o curiosità? Siamo qui per aiutarti! \nPuoi venire a trovarci presso la nostra sede: \n📍 Piazza Giacomo Matteotti n.3\, Catania \n🗓 Orari di apertura in sede (a partire dal 9 gennaio 2025): \nLunedì – Mercoledì – Venerdì  \nOrari 9:00 – 12:00 | 15:00 – 18:00 \n\n\n\nNON PUOI PARTECIPARE IN SEDE?\nNESSUN PROBLEMA!\n\n\n\n\n\nIl nostro help desk online è sempre disponibile nei giorni e orari indicati. \nPuoi collegarti comodamente online tramite Zoom \nLunedì – Mercoledì – Venerdì  \nOrari 9:00 – 12:00 | 15:00 – 18:00 \nCollegati con Zoom a questo link -> https://us06web.zoom.us/j/81408582092 \n 
URL:https://www.nictnact.it/event/help-desk-voltanict-2/2025-03-12/
LOCATION:piazza matteotti 3 Catania
CATEGORIES:Help Desk
END:VEVENT
BEGIN:VEVENT
DTSTART;TZID=UTC:20250314T090000
DTEND;TZID=UTC:20250314T180000
DTSTAMP:20260425T124813
CREATED:20241213T185636Z
LAST-MODIFIED:20241220T132415Z
UID:10001091-1741942800-1741975200@www.nictnact.it
SUMMARY:Help Desk Voltanict
DESCRIPTION:Hai dubbi\, domande o curiosità? Siamo qui per aiutarti! \nPuoi venire a trovarci presso la nostra sede: \n📍 Piazza Giacomo Matteotti n.3\, Catania \n🗓 Orari di apertura in sede (a partire dal 9 gennaio 2025): \nLunedì – Mercoledì – Venerdì  \nOrari 9:00 – 12:00 | 15:00 – 18:00 \n\n\n\nNON PUOI PARTECIPARE IN SEDE?\nNESSUN PROBLEMA!\n\n\n\n\n\nIl nostro help desk online è sempre disponibile nei giorni e orari indicati. \nPuoi collegarti comodamente online tramite Zoom \nLunedì – Mercoledì – Venerdì  \nOrari 9:00 – 12:00 | 15:00 – 18:00 \nCollegati con Zoom a questo link -> https://us06web.zoom.us/j/81408582092 \n 
URL:https://www.nictnact.it/event/help-desk-voltanict-2/2025-03-14/
LOCATION:piazza matteotti 3 Catania
CATEGORIES:Help Desk
END:VEVENT
BEGIN:VEVENT
DTSTART;TZID=UTC:20250317T090000
DTEND;TZID=UTC:20250317T180000
DTSTAMP:20260425T124813
CREATED:20241213T185636Z
LAST-MODIFIED:20241220T132415Z
UID:10001092-1742202000-1742234400@www.nictnact.it
SUMMARY:Help Desk Voltanict
DESCRIPTION:Hai dubbi\, domande o curiosità? Siamo qui per aiutarti! \nPuoi venire a trovarci presso la nostra sede: \n📍 Piazza Giacomo Matteotti n.3\, Catania \n🗓 Orari di apertura in sede (a partire dal 9 gennaio 2025): \nLunedì – Mercoledì – Venerdì  \nOrari 9:00 – 12:00 | 15:00 – 18:00 \n\n\n\nNON PUOI PARTECIPARE IN SEDE?\nNESSUN PROBLEMA!\n\n\n\n\n\nIl nostro help desk online è sempre disponibile nei giorni e orari indicati. \nPuoi collegarti comodamente online tramite Zoom \nLunedì – Mercoledì – Venerdì  \nOrari 9:00 – 12:00 | 15:00 – 18:00 \nCollegati con Zoom a questo link -> https://us06web.zoom.us/j/81408582092 \n 
URL:https://www.nictnact.it/event/help-desk-voltanict-2/2025-03-17/
LOCATION:piazza matteotti 3 Catania
CATEGORIES:Help Desk
END:VEVENT
BEGIN:VEVENT
DTSTART;TZID=UTC:20250319T090000
DTEND;TZID=UTC:20250319T180000
DTSTAMP:20260425T124813
CREATED:20241213T185636Z
LAST-MODIFIED:20241220T132415Z
UID:10001093-1742374800-1742407200@www.nictnact.it
SUMMARY:Help Desk Voltanict
DESCRIPTION:Hai dubbi\, domande o curiosità? Siamo qui per aiutarti! \nPuoi venire a trovarci presso la nostra sede: \n📍 Piazza Giacomo Matteotti n.3\, Catania \n🗓 Orari di apertura in sede (a partire dal 9 gennaio 2025): \nLunedì – Mercoledì – Venerdì  \nOrari 9:00 – 12:00 | 15:00 – 18:00 \n\n\n\nNON PUOI PARTECIPARE IN SEDE?\nNESSUN PROBLEMA!\n\n\n\n\n\nIl nostro help desk online è sempre disponibile nei giorni e orari indicati. \nPuoi collegarti comodamente online tramite Zoom \nLunedì – Mercoledì – Venerdì  \nOrari 9:00 – 12:00 | 15:00 – 18:00 \nCollegati con Zoom a questo link -> https://us06web.zoom.us/j/81408582092 \n 
URL:https://www.nictnact.it/event/help-desk-voltanict-2/2025-03-19/
LOCATION:piazza matteotti 3 Catania
CATEGORIES:Help Desk
END:VEVENT
BEGIN:VEVENT
DTSTART;TZID=UTC:20250321T090000
DTEND;TZID=UTC:20250321T180000
DTSTAMP:20260425T124813
CREATED:20241213T185636Z
LAST-MODIFIED:20241220T132415Z
UID:10001094-1742547600-1742580000@www.nictnact.it
SUMMARY:Help Desk Voltanict
DESCRIPTION:Hai dubbi\, domande o curiosità? Siamo qui per aiutarti! \nPuoi venire a trovarci presso la nostra sede: \n📍 Piazza Giacomo Matteotti n.3\, Catania \n🗓 Orari di apertura in sede (a partire dal 9 gennaio 2025): \nLunedì – Mercoledì – Venerdì  \nOrari 9:00 – 12:00 | 15:00 – 18:00 \n\n\n\nNON PUOI PARTECIPARE IN SEDE?\nNESSUN PROBLEMA!\n\n\n\n\n\nIl nostro help desk online è sempre disponibile nei giorni e orari indicati. \nPuoi collegarti comodamente online tramite Zoom \nLunedì – Mercoledì – Venerdì  \nOrari 9:00 – 12:00 | 15:00 – 18:00 \nCollegati con Zoom a questo link -> https://us06web.zoom.us/j/81408582092 \n 
URL:https://www.nictnact.it/event/help-desk-voltanict-2/2025-03-21/
LOCATION:piazza matteotti 3 Catania
CATEGORIES:Help Desk
END:VEVENT
BEGIN:VEVENT
DTSTART;TZID=UTC:20250324T090000
DTEND;TZID=UTC:20250324T180000
DTSTAMP:20260425T124813
CREATED:20241213T185636Z
LAST-MODIFIED:20241220T132415Z
UID:10001095-1742806800-1742839200@www.nictnact.it
SUMMARY:Help Desk Voltanict
DESCRIPTION:Hai dubbi\, domande o curiosità? Siamo qui per aiutarti! \nPuoi venire a trovarci presso la nostra sede: \n📍 Piazza Giacomo Matteotti n.3\, Catania \n🗓 Orari di apertura in sede (a partire dal 9 gennaio 2025): \nLunedì – Mercoledì – Venerdì  \nOrari 9:00 – 12:00 | 15:00 – 18:00 \n\n\n\nNON PUOI PARTECIPARE IN SEDE?\nNESSUN PROBLEMA!\n\n\n\n\n\nIl nostro help desk online è sempre disponibile nei giorni e orari indicati. \nPuoi collegarti comodamente online tramite Zoom \nLunedì – Mercoledì – Venerdì  \nOrari 9:00 – 12:00 | 15:00 – 18:00 \nCollegati con Zoom a questo link -> https://us06web.zoom.us/j/81408582092 \n 
URL:https://www.nictnact.it/event/help-desk-voltanict-2/2025-03-24/
LOCATION:piazza matteotti 3 Catania
CATEGORIES:Help Desk
END:VEVENT
BEGIN:VEVENT
DTSTART;TZID=UTC:20250326T090000
DTEND;TZID=UTC:20250326T180000
DTSTAMP:20260425T124813
CREATED:20241213T185636Z
LAST-MODIFIED:20241220T132415Z
UID:10001096-1742979600-1743012000@www.nictnact.it
SUMMARY:Help Desk Voltanict
DESCRIPTION:Hai dubbi\, domande o curiosità? Siamo qui per aiutarti! \nPuoi venire a trovarci presso la nostra sede: \n📍 Piazza Giacomo Matteotti n.3\, Catania \n🗓 Orari di apertura in sede (a partire dal 9 gennaio 2025): \nLunedì – Mercoledì – Venerdì  \nOrari 9:00 – 12:00 | 15:00 – 18:00 \n\n\n\nNON PUOI PARTECIPARE IN SEDE?\nNESSUN PROBLEMA!\n\n\n\n\n\nIl nostro help desk online è sempre disponibile nei giorni e orari indicati. \nPuoi collegarti comodamente online tramite Zoom \nLunedì – Mercoledì – Venerdì  \nOrari 9:00 – 12:00 | 15:00 – 18:00 \nCollegati con Zoom a questo link -> https://us06web.zoom.us/j/81408582092 \n 
URL:https://www.nictnact.it/event/help-desk-voltanict-2/2025-03-26/
LOCATION:piazza matteotti 3 Catania
CATEGORIES:Help Desk
END:VEVENT
BEGIN:VEVENT
DTSTART;TZID=UTC:20250328T090000
DTEND;TZID=UTC:20250328T180000
DTSTAMP:20260425T124813
CREATED:20241213T185636Z
LAST-MODIFIED:20241220T132415Z
UID:10001097-1743152400-1743184800@www.nictnact.it
SUMMARY:Help Desk Voltanict
DESCRIPTION:Hai dubbi\, domande o curiosità? Siamo qui per aiutarti! \nPuoi venire a trovarci presso la nostra sede: \n📍 Piazza Giacomo Matteotti n.3\, Catania \n🗓 Orari di apertura in sede (a partire dal 9 gennaio 2025): \nLunedì – Mercoledì – Venerdì  \nOrari 9:00 – 12:00 | 15:00 – 18:00 \n\n\n\nNON PUOI PARTECIPARE IN SEDE?\nNESSUN PROBLEMA!\n\n\n\n\n\nIl nostro help desk online è sempre disponibile nei giorni e orari indicati. \nPuoi collegarti comodamente online tramite Zoom \nLunedì – Mercoledì – Venerdì  \nOrari 9:00 – 12:00 | 15:00 – 18:00 \nCollegati con Zoom a questo link -> https://us06web.zoom.us/j/81408582092 \n 
URL:https://www.nictnact.it/event/help-desk-voltanict-2/2025-03-28/
LOCATION:piazza matteotti 3 Catania
CATEGORIES:Help Desk
END:VEVENT
BEGIN:VEVENT
DTSTART;TZID=UTC:20250331T090000
DTEND;TZID=UTC:20250331T180000
DTSTAMP:20260425T124813
CREATED:20241213T185636Z
LAST-MODIFIED:20241220T132415Z
UID:10001098-1743411600-1743444000@www.nictnact.it
SUMMARY:Help Desk Voltanict
DESCRIPTION:Hai dubbi\, domande o curiosità? Siamo qui per aiutarti! \nPuoi venire a trovarci presso la nostra sede: \n📍 Piazza Giacomo Matteotti n.3\, Catania \n🗓 Orari di apertura in sede (a partire dal 9 gennaio 2025): \nLunedì – Mercoledì – Venerdì  \nOrari 9:00 – 12:00 | 15:00 – 18:00 \n\n\n\nNON PUOI PARTECIPARE IN SEDE?\nNESSUN PROBLEMA!\n\n\n\n\n\nIl nostro help desk online è sempre disponibile nei giorni e orari indicati. \nPuoi collegarti comodamente online tramite Zoom \nLunedì – Mercoledì – Venerdì  \nOrari 9:00 – 12:00 | 15:00 – 18:00 \nCollegati con Zoom a questo link -> https://us06web.zoom.us/j/81408582092 \n 
URL:https://www.nictnact.it/event/help-desk-voltanict-2/2025-03-31/
LOCATION:piazza matteotti 3 Catania
CATEGORIES:Help Desk
END:VEVENT
END:VCALENDAR