BEGIN:VCALENDAR
VERSION:2.0
PRODID:-//Nict Nact - ECPv6.3.5//NONSGML v1.0//EN
CALSCALE:GREGORIAN
METHOD:PUBLISH
X-WR-CALNAME:Nict Nact
X-ORIGINAL-URL:https://www.nictnact.it
X-WR-CALDESC:Eventi per Nict Nact
REFRESH-INTERVAL;VALUE=DURATION:PT1H
X-Robots-Tag:noindex
X-PUBLISHED-TTL:PT1H
BEGIN:VTIMEZONE
TZID:UTC
BEGIN:STANDARD
TZOFFSETFROM:+0000
TZOFFSETTO:+0000
TZNAME:UTC
DTSTART:20260101T000000
END:STANDARD
END:VTIMEZONE
BEGIN:VEVENT
DTSTART;TZID=UTC:20260102T090000
DTEND;TZID=UTC:20260102T180000
DTSTAMP:20260424T220235
CREATED:20241213T185636Z
LAST-MODIFIED:20241220T132415Z
UID:10001217-1767344400-1767376800@www.nictnact.it
SUMMARY:Help Desk Voltanict
DESCRIPTION:Hai dubbi\, domande o curiosità? Siamo qui per aiutarti! \nPuoi venire a trovarci presso la nostra sede: \n📍 Piazza Giacomo Matteotti n.3\, Catania \n🗓 Orari di apertura in sede (a partire dal 9 gennaio 2025): \nLunedì – Mercoledì – Venerdì  \nOrari 9:00 – 12:00 | 15:00 – 18:00 \n\n\n\nNON PUOI PARTECIPARE IN SEDE?\nNESSUN PROBLEMA!\n\n\n\n\n\nIl nostro help desk online è sempre disponibile nei giorni e orari indicati. \nPuoi collegarti comodamente online tramite Zoom \nLunedì – Mercoledì – Venerdì  \nOrari 9:00 – 12:00 | 15:00 – 18:00 \nCollegati con Zoom a questo link -> https://us06web.zoom.us/j/81408582092 \n 
URL:https://www.nictnact.it/event/help-desk-voltanict-2/2026-01-02/
LOCATION:piazza matteotti 3 Catania
CATEGORIES:Help Desk
END:VEVENT
BEGIN:VEVENT
DTSTART;TZID=UTC:20260105T090000
DTEND;TZID=UTC:20260105T180000
DTSTAMP:20260424T220235
CREATED:20241213T185636Z
LAST-MODIFIED:20241220T132415Z
UID:10001218-1767603600-1767636000@www.nictnact.it
SUMMARY:Help Desk Voltanict
DESCRIPTION:Hai dubbi\, domande o curiosità? Siamo qui per aiutarti! \nPuoi venire a trovarci presso la nostra sede: \n📍 Piazza Giacomo Matteotti n.3\, Catania \n🗓 Orari di apertura in sede (a partire dal 9 gennaio 2025): \nLunedì – Mercoledì – Venerdì  \nOrari 9:00 – 12:00 | 15:00 – 18:00 \n\n\n\nNON PUOI PARTECIPARE IN SEDE?\nNESSUN PROBLEMA!\n\n\n\n\n\nIl nostro help desk online è sempre disponibile nei giorni e orari indicati. \nPuoi collegarti comodamente online tramite Zoom \nLunedì – Mercoledì – Venerdì  \nOrari 9:00 – 12:00 | 15:00 – 18:00 \nCollegati con Zoom a questo link -> https://us06web.zoom.us/j/81408582092 \n 
URL:https://www.nictnact.it/event/help-desk-voltanict-2/2026-01-05/
LOCATION:piazza matteotti 3 Catania
CATEGORIES:Help Desk
END:VEVENT
BEGIN:VEVENT
DTSTART;TZID=UTC:20260107T090000
DTEND;TZID=UTC:20260107T180000
DTSTAMP:20260424T220235
CREATED:20241213T185636Z
LAST-MODIFIED:20241220T132415Z
UID:10001219-1767776400-1767808800@www.nictnact.it
SUMMARY:Help Desk Voltanict
DESCRIPTION:Hai dubbi\, domande o curiosità? Siamo qui per aiutarti! \nPuoi venire a trovarci presso la nostra sede: \n📍 Piazza Giacomo Matteotti n.3\, Catania \n🗓 Orari di apertura in sede (a partire dal 9 gennaio 2025): \nLunedì – Mercoledì – Venerdì  \nOrari 9:00 – 12:00 | 15:00 – 18:00 \n\n\n\nNON PUOI PARTECIPARE IN SEDE?\nNESSUN PROBLEMA!\n\n\n\n\n\nIl nostro help desk online è sempre disponibile nei giorni e orari indicati. \nPuoi collegarti comodamente online tramite Zoom \nLunedì – Mercoledì – Venerdì  \nOrari 9:00 – 12:00 | 15:00 – 18:00 \nCollegati con Zoom a questo link -> https://us06web.zoom.us/j/81408582092 \n 
URL:https://www.nictnact.it/event/help-desk-voltanict-2/2026-01-07/
LOCATION:piazza matteotti 3 Catania
CATEGORIES:Help Desk
END:VEVENT
BEGIN:VEVENT
DTSTART;TZID=UTC:20260109T090000
DTEND;TZID=UTC:20260109T180000
DTSTAMP:20260424T220235
CREATED:20241213T185636Z
LAST-MODIFIED:20241220T132415Z
UID:10001220-1767949200-1767981600@www.nictnact.it
SUMMARY:Help Desk Voltanict
DESCRIPTION:Hai dubbi\, domande o curiosità? Siamo qui per aiutarti! \nPuoi venire a trovarci presso la nostra sede: \n📍 Piazza Giacomo Matteotti n.3\, Catania \n🗓 Orari di apertura in sede (a partire dal 9 gennaio 2025): \nLunedì – Mercoledì – Venerdì  \nOrari 9:00 – 12:00 | 15:00 – 18:00 \n\n\n\nNON PUOI PARTECIPARE IN SEDE?\nNESSUN PROBLEMA!\n\n\n\n\n\nIl nostro help desk online è sempre disponibile nei giorni e orari indicati. \nPuoi collegarti comodamente online tramite Zoom \nLunedì – Mercoledì – Venerdì  \nOrari 9:00 – 12:00 | 15:00 – 18:00 \nCollegati con Zoom a questo link -> https://us06web.zoom.us/j/81408582092 \n 
URL:https://www.nictnact.it/event/help-desk-voltanict-2/2026-01-09/
LOCATION:piazza matteotti 3 Catania
CATEGORIES:Help Desk
END:VEVENT
BEGIN:VEVENT
DTSTART;TZID=UTC:20260112T090000
DTEND;TZID=UTC:20260112T180000
DTSTAMP:20260424T220235
CREATED:20241213T185636Z
LAST-MODIFIED:20241220T132415Z
UID:10001221-1768208400-1768240800@www.nictnact.it
SUMMARY:Help Desk Voltanict
DESCRIPTION:Hai dubbi\, domande o curiosità? Siamo qui per aiutarti! \nPuoi venire a trovarci presso la nostra sede: \n📍 Piazza Giacomo Matteotti n.3\, Catania \n🗓 Orari di apertura in sede (a partire dal 9 gennaio 2025): \nLunedì – Mercoledì – Venerdì  \nOrari 9:00 – 12:00 | 15:00 – 18:00 \n\n\n\nNON PUOI PARTECIPARE IN SEDE?\nNESSUN PROBLEMA!\n\n\n\n\n\nIl nostro help desk online è sempre disponibile nei giorni e orari indicati. \nPuoi collegarti comodamente online tramite Zoom \nLunedì – Mercoledì – Venerdì  \nOrari 9:00 – 12:00 | 15:00 – 18:00 \nCollegati con Zoom a questo link -> https://us06web.zoom.us/j/81408582092 \n 
URL:https://www.nictnact.it/event/help-desk-voltanict-2/2026-01-12/
LOCATION:piazza matteotti 3 Catania
CATEGORIES:Help Desk
END:VEVENT
BEGIN:VEVENT
DTSTART;TZID=UTC:20260114T090000
DTEND;TZID=UTC:20260114T180000
DTSTAMP:20260424T220235
CREATED:20241213T185636Z
LAST-MODIFIED:20241220T132415Z
UID:10001222-1768381200-1768413600@www.nictnact.it
SUMMARY:Help Desk Voltanict
DESCRIPTION:Hai dubbi\, domande o curiosità? Siamo qui per aiutarti! \nPuoi venire a trovarci presso la nostra sede: \n📍 Piazza Giacomo Matteotti n.3\, Catania \n🗓 Orari di apertura in sede (a partire dal 9 gennaio 2025): \nLunedì – Mercoledì – Venerdì  \nOrari 9:00 – 12:00 | 15:00 – 18:00 \n\n\n\nNON PUOI PARTECIPARE IN SEDE?\nNESSUN PROBLEMA!\n\n\n\n\n\nIl nostro help desk online è sempre disponibile nei giorni e orari indicati. \nPuoi collegarti comodamente online tramite Zoom \nLunedì – Mercoledì – Venerdì  \nOrari 9:00 – 12:00 | 15:00 – 18:00 \nCollegati con Zoom a questo link -> https://us06web.zoom.us/j/81408582092 \n 
URL:https://www.nictnact.it/event/help-desk-voltanict-2/2026-01-14/
LOCATION:piazza matteotti 3 Catania
CATEGORIES:Help Desk
END:VEVENT
BEGIN:VEVENT
DTSTART;TZID=UTC:20260116T090000
DTEND;TZID=UTC:20260116T180000
DTSTAMP:20260424T220235
CREATED:20241213T185636Z
LAST-MODIFIED:20241220T132415Z
UID:10001223-1768554000-1768586400@www.nictnact.it
SUMMARY:Help Desk Voltanict
DESCRIPTION:Hai dubbi\, domande o curiosità? Siamo qui per aiutarti! \nPuoi venire a trovarci presso la nostra sede: \n📍 Piazza Giacomo Matteotti n.3\, Catania \n🗓 Orari di apertura in sede (a partire dal 9 gennaio 2025): \nLunedì – Mercoledì – Venerdì  \nOrari 9:00 – 12:00 | 15:00 – 18:00 \n\n\n\nNON PUOI PARTECIPARE IN SEDE?\nNESSUN PROBLEMA!\n\n\n\n\n\nIl nostro help desk online è sempre disponibile nei giorni e orari indicati. \nPuoi collegarti comodamente online tramite Zoom \nLunedì – Mercoledì – Venerdì  \nOrari 9:00 – 12:00 | 15:00 – 18:00 \nCollegati con Zoom a questo link -> https://us06web.zoom.us/j/81408582092 \n 
URL:https://www.nictnact.it/event/help-desk-voltanict-2/2026-01-16/
LOCATION:piazza matteotti 3 Catania
CATEGORIES:Help Desk
END:VEVENT
BEGIN:VEVENT
DTSTART;TZID=UTC:20260119T090000
DTEND;TZID=UTC:20260119T180000
DTSTAMP:20260424T220235
CREATED:20241213T185636Z
LAST-MODIFIED:20241220T132415Z
UID:10001224-1768813200-1768845600@www.nictnact.it
SUMMARY:Help Desk Voltanict
DESCRIPTION:Hai dubbi\, domande o curiosità? Siamo qui per aiutarti! \nPuoi venire a trovarci presso la nostra sede: \n📍 Piazza Giacomo Matteotti n.3\, Catania \n🗓 Orari di apertura in sede (a partire dal 9 gennaio 2025): \nLunedì – Mercoledì – Venerdì  \nOrari 9:00 – 12:00 | 15:00 – 18:00 \n\n\n\nNON PUOI PARTECIPARE IN SEDE?\nNESSUN PROBLEMA!\n\n\n\n\n\nIl nostro help desk online è sempre disponibile nei giorni e orari indicati. \nPuoi collegarti comodamente online tramite Zoom \nLunedì – Mercoledì – Venerdì  \nOrari 9:00 – 12:00 | 15:00 – 18:00 \nCollegati con Zoom a questo link -> https://us06web.zoom.us/j/81408582092 \n 
URL:https://www.nictnact.it/event/help-desk-voltanict-2/2026-01-19/
LOCATION:piazza matteotti 3 Catania
CATEGORIES:Help Desk
END:VEVENT
BEGIN:VEVENT
DTSTART;TZID=UTC:20260121T090000
DTEND;TZID=UTC:20260121T180000
DTSTAMP:20260424T220235
CREATED:20241213T185636Z
LAST-MODIFIED:20241220T132415Z
UID:10001225-1768986000-1769018400@www.nictnact.it
SUMMARY:Help Desk Voltanict
DESCRIPTION:Hai dubbi\, domande o curiosità? Siamo qui per aiutarti! \nPuoi venire a trovarci presso la nostra sede: \n📍 Piazza Giacomo Matteotti n.3\, Catania \n🗓 Orari di apertura in sede (a partire dal 9 gennaio 2025): \nLunedì – Mercoledì – Venerdì  \nOrari 9:00 – 12:00 | 15:00 – 18:00 \n\n\n\nNON PUOI PARTECIPARE IN SEDE?\nNESSUN PROBLEMA!\n\n\n\n\n\nIl nostro help desk online è sempre disponibile nei giorni e orari indicati. \nPuoi collegarti comodamente online tramite Zoom \nLunedì – Mercoledì – Venerdì  \nOrari 9:00 – 12:00 | 15:00 – 18:00 \nCollegati con Zoom a questo link -> https://us06web.zoom.us/j/81408582092 \n 
URL:https://www.nictnact.it/event/help-desk-voltanict-2/2026-01-21/
LOCATION:piazza matteotti 3 Catania
CATEGORIES:Help Desk
END:VEVENT
BEGIN:VEVENT
DTSTART;TZID=UTC:20260123T090000
DTEND;TZID=UTC:20260123T180000
DTSTAMP:20260424T220235
CREATED:20241213T185636Z
LAST-MODIFIED:20241220T132415Z
UID:10001226-1769158800-1769191200@www.nictnact.it
SUMMARY:Help Desk Voltanict
DESCRIPTION:Hai dubbi\, domande o curiosità? Siamo qui per aiutarti! \nPuoi venire a trovarci presso la nostra sede: \n📍 Piazza Giacomo Matteotti n.3\, Catania \n🗓 Orari di apertura in sede (a partire dal 9 gennaio 2025): \nLunedì – Mercoledì – Venerdì  \nOrari 9:00 – 12:00 | 15:00 – 18:00 \n\n\n\nNON PUOI PARTECIPARE IN SEDE?\nNESSUN PROBLEMA!\n\n\n\n\n\nIl nostro help desk online è sempre disponibile nei giorni e orari indicati. \nPuoi collegarti comodamente online tramite Zoom \nLunedì – Mercoledì – Venerdì  \nOrari 9:00 – 12:00 | 15:00 – 18:00 \nCollegati con Zoom a questo link -> https://us06web.zoom.us/j/81408582092 \n 
URL:https://www.nictnact.it/event/help-desk-voltanict-2/2026-01-23/
LOCATION:piazza matteotti 3 Catania
CATEGORIES:Help Desk
END:VEVENT
BEGIN:VEVENT
DTSTART;TZID=UTC:20260126T090000
DTEND;TZID=UTC:20260126T180000
DTSTAMP:20260424T220235
CREATED:20241213T185636Z
LAST-MODIFIED:20241220T132415Z
UID:10001227-1769418000-1769450400@www.nictnact.it
SUMMARY:Help Desk Voltanict
DESCRIPTION:Hai dubbi\, domande o curiosità? Siamo qui per aiutarti! \nPuoi venire a trovarci presso la nostra sede: \n📍 Piazza Giacomo Matteotti n.3\, Catania \n🗓 Orari di apertura in sede (a partire dal 9 gennaio 2025): \nLunedì – Mercoledì – Venerdì  \nOrari 9:00 – 12:00 | 15:00 – 18:00 \n\n\n\nNON PUOI PARTECIPARE IN SEDE?\nNESSUN PROBLEMA!\n\n\n\n\n\nIl nostro help desk online è sempre disponibile nei giorni e orari indicati. \nPuoi collegarti comodamente online tramite Zoom \nLunedì – Mercoledì – Venerdì  \nOrari 9:00 – 12:00 | 15:00 – 18:00 \nCollegati con Zoom a questo link -> https://us06web.zoom.us/j/81408582092 \n 
URL:https://www.nictnact.it/event/help-desk-voltanict-2/2026-01-26/
LOCATION:piazza matteotti 3 Catania
CATEGORIES:Help Desk
END:VEVENT
BEGIN:VEVENT
DTSTART;TZID=UTC:20260128T090000
DTEND;TZID=UTC:20260128T180000
DTSTAMP:20260424T220235
CREATED:20241213T185636Z
LAST-MODIFIED:20241220T132415Z
UID:10001228-1769590800-1769623200@www.nictnact.it
SUMMARY:Help Desk Voltanict
DESCRIPTION:Hai dubbi\, domande o curiosità? Siamo qui per aiutarti! \nPuoi venire a trovarci presso la nostra sede: \n📍 Piazza Giacomo Matteotti n.3\, Catania \n🗓 Orari di apertura in sede (a partire dal 9 gennaio 2025): \nLunedì – Mercoledì – Venerdì  \nOrari 9:00 – 12:00 | 15:00 – 18:00 \n\n\n\nNON PUOI PARTECIPARE IN SEDE?\nNESSUN PROBLEMA!\n\n\n\n\n\nIl nostro help desk online è sempre disponibile nei giorni e orari indicati. \nPuoi collegarti comodamente online tramite Zoom \nLunedì – Mercoledì – Venerdì  \nOrari 9:00 – 12:00 | 15:00 – 18:00 \nCollegati con Zoom a questo link -> https://us06web.zoom.us/j/81408582092 \n 
URL:https://www.nictnact.it/event/help-desk-voltanict-2/2026-01-28/
LOCATION:piazza matteotti 3 Catania
CATEGORIES:Help Desk
END:VEVENT
BEGIN:VEVENT
DTSTART;TZID=UTC:20260130T090000
DTEND;TZID=UTC:20260130T180000
DTSTAMP:20260424T220235
CREATED:20241213T185636Z
LAST-MODIFIED:20241220T132415Z
UID:10001229-1769763600-1769796000@www.nictnact.it
SUMMARY:Help Desk Voltanict
DESCRIPTION:Hai dubbi\, domande o curiosità? Siamo qui per aiutarti! \nPuoi venire a trovarci presso la nostra sede: \n📍 Piazza Giacomo Matteotti n.3\, Catania \n🗓 Orari di apertura in sede (a partire dal 9 gennaio 2025): \nLunedì – Mercoledì – Venerdì  \nOrari 9:00 – 12:00 | 15:00 – 18:00 \n\n\n\nNON PUOI PARTECIPARE IN SEDE?\nNESSUN PROBLEMA!\n\n\n\n\n\nIl nostro help desk online è sempre disponibile nei giorni e orari indicati. \nPuoi collegarti comodamente online tramite Zoom \nLunedì – Mercoledì – Venerdì  \nOrari 9:00 – 12:00 | 15:00 – 18:00 \nCollegati con Zoom a questo link -> https://us06web.zoom.us/j/81408582092 \n 
URL:https://www.nictnact.it/event/help-desk-voltanict-2/2026-01-30/
LOCATION:piazza matteotti 3 Catania
CATEGORIES:Help Desk
END:VEVENT
END:VCALENDAR