BEGIN:VCALENDAR
VERSION:2.0
PRODID:-//Nict Nact - ECPv6.3.5//NONSGML v1.0//EN
CALSCALE:GREGORIAN
METHOD:PUBLISH
X-WR-CALNAME:Nict Nact
X-ORIGINAL-URL:https://www.nictnact.it
X-WR-CALDESC:Eventi per Nict Nact
REFRESH-INTERVAL;VALUE=DURATION:PT1H
X-Robots-Tag:noindex
X-PUBLISHED-TTL:PT1H
BEGIN:VTIMEZONE
TZID:UTC
BEGIN:STANDARD
TZOFFSETFROM:+0000
TZOFFSETTO:+0000
TZNAME:UTC
DTSTART:20260101T000000
END:STANDARD
END:VTIMEZONE
BEGIN:VEVENT
DTSTART;TZID=UTC:20260202T090000
DTEND;TZID=UTC:20260202T180000
DTSTAMP:20260424T204239
CREATED:20241213T185636Z
LAST-MODIFIED:20241220T132415Z
UID:10001230-1770022800-1770055200@www.nictnact.it
SUMMARY:Help Desk Voltanict
DESCRIPTION:Hai dubbi\, domande o curiosità? Siamo qui per aiutarti! \nPuoi venire a trovarci presso la nostra sede: \n📍 Piazza Giacomo Matteotti n.3\, Catania \n🗓 Orari di apertura in sede (a partire dal 9 gennaio 2025): \nLunedì – Mercoledì – Venerdì  \nOrari 9:00 – 12:00 | 15:00 – 18:00 \n\n\n\nNON PUOI PARTECIPARE IN SEDE?\nNESSUN PROBLEMA!\n\n\n\n\n\nIl nostro help desk online è sempre disponibile nei giorni e orari indicati. \nPuoi collegarti comodamente online tramite Zoom \nLunedì – Mercoledì – Venerdì  \nOrari 9:00 – 12:00 | 15:00 – 18:00 \nCollegati con Zoom a questo link -> https://us06web.zoom.us/j/81408582092 \n 
URL:https://www.nictnact.it/event/help-desk-voltanict-2/2026-02-02/
LOCATION:piazza matteotti 3 Catania
CATEGORIES:Help Desk
END:VEVENT
BEGIN:VEVENT
DTSTART;TZID=UTC:20260204T090000
DTEND;TZID=UTC:20260204T180000
DTSTAMP:20260424T204239
CREATED:20241213T185636Z
LAST-MODIFIED:20241220T132415Z
UID:10001231-1770195600-1770228000@www.nictnact.it
SUMMARY:Help Desk Voltanict
DESCRIPTION:Hai dubbi\, domande o curiosità? Siamo qui per aiutarti! \nPuoi venire a trovarci presso la nostra sede: \n📍 Piazza Giacomo Matteotti n.3\, Catania \n🗓 Orari di apertura in sede (a partire dal 9 gennaio 2025): \nLunedì – Mercoledì – Venerdì  \nOrari 9:00 – 12:00 | 15:00 – 18:00 \n\n\n\nNON PUOI PARTECIPARE IN SEDE?\nNESSUN PROBLEMA!\n\n\n\n\n\nIl nostro help desk online è sempre disponibile nei giorni e orari indicati. \nPuoi collegarti comodamente online tramite Zoom \nLunedì – Mercoledì – Venerdì  \nOrari 9:00 – 12:00 | 15:00 – 18:00 \nCollegati con Zoom a questo link -> https://us06web.zoom.us/j/81408582092 \n 
URL:https://www.nictnact.it/event/help-desk-voltanict-2/2026-02-04/
LOCATION:piazza matteotti 3 Catania
CATEGORIES:Help Desk
END:VEVENT
BEGIN:VEVENT
DTSTART;TZID=UTC:20260206T090000
DTEND;TZID=UTC:20260206T180000
DTSTAMP:20260424T204239
CREATED:20241213T185636Z
LAST-MODIFIED:20241220T132415Z
UID:10001232-1770368400-1770400800@www.nictnact.it
SUMMARY:Help Desk Voltanict
DESCRIPTION:Hai dubbi\, domande o curiosità? Siamo qui per aiutarti! \nPuoi venire a trovarci presso la nostra sede: \n📍 Piazza Giacomo Matteotti n.3\, Catania \n🗓 Orari di apertura in sede (a partire dal 9 gennaio 2025): \nLunedì – Mercoledì – Venerdì  \nOrari 9:00 – 12:00 | 15:00 – 18:00 \n\n\n\nNON PUOI PARTECIPARE IN SEDE?\nNESSUN PROBLEMA!\n\n\n\n\n\nIl nostro help desk online è sempre disponibile nei giorni e orari indicati. \nPuoi collegarti comodamente online tramite Zoom \nLunedì – Mercoledì – Venerdì  \nOrari 9:00 – 12:00 | 15:00 – 18:00 \nCollegati con Zoom a questo link -> https://us06web.zoom.us/j/81408582092 \n 
URL:https://www.nictnact.it/event/help-desk-voltanict-2/2026-02-06/
LOCATION:piazza matteotti 3 Catania
CATEGORIES:Help Desk
END:VEVENT
BEGIN:VEVENT
DTSTART;TZID=UTC:20260209T090000
DTEND;TZID=UTC:20260209T180000
DTSTAMP:20260424T204239
CREATED:20241213T185636Z
LAST-MODIFIED:20241220T132415Z
UID:10001233-1770627600-1770660000@www.nictnact.it
SUMMARY:Help Desk Voltanict
DESCRIPTION:Hai dubbi\, domande o curiosità? Siamo qui per aiutarti! \nPuoi venire a trovarci presso la nostra sede: \n📍 Piazza Giacomo Matteotti n.3\, Catania \n🗓 Orari di apertura in sede (a partire dal 9 gennaio 2025): \nLunedì – Mercoledì – Venerdì  \nOrari 9:00 – 12:00 | 15:00 – 18:00 \n\n\n\nNON PUOI PARTECIPARE IN SEDE?\nNESSUN PROBLEMA!\n\n\n\n\n\nIl nostro help desk online è sempre disponibile nei giorni e orari indicati. \nPuoi collegarti comodamente online tramite Zoom \nLunedì – Mercoledì – Venerdì  \nOrari 9:00 – 12:00 | 15:00 – 18:00 \nCollegati con Zoom a questo link -> https://us06web.zoom.us/j/81408582092 \n 
URL:https://www.nictnact.it/event/help-desk-voltanict-2/2026-02-09/
LOCATION:piazza matteotti 3 Catania
CATEGORIES:Help Desk
END:VEVENT
BEGIN:VEVENT
DTSTART;TZID=UTC:20260211T090000
DTEND;TZID=UTC:20260211T180000
DTSTAMP:20260424T204239
CREATED:20241213T185636Z
LAST-MODIFIED:20241220T132415Z
UID:10001234-1770800400-1770832800@www.nictnact.it
SUMMARY:Help Desk Voltanict
DESCRIPTION:Hai dubbi\, domande o curiosità? Siamo qui per aiutarti! \nPuoi venire a trovarci presso la nostra sede: \n📍 Piazza Giacomo Matteotti n.3\, Catania \n🗓 Orari di apertura in sede (a partire dal 9 gennaio 2025): \nLunedì – Mercoledì – Venerdì  \nOrari 9:00 – 12:00 | 15:00 – 18:00 \n\n\n\nNON PUOI PARTECIPARE IN SEDE?\nNESSUN PROBLEMA!\n\n\n\n\n\nIl nostro help desk online è sempre disponibile nei giorni e orari indicati. \nPuoi collegarti comodamente online tramite Zoom \nLunedì – Mercoledì – Venerdì  \nOrari 9:00 – 12:00 | 15:00 – 18:00 \nCollegati con Zoom a questo link -> https://us06web.zoom.us/j/81408582092 \n 
URL:https://www.nictnact.it/event/help-desk-voltanict-2/2026-02-11/
LOCATION:piazza matteotti 3 Catania
CATEGORIES:Help Desk
END:VEVENT
BEGIN:VEVENT
DTSTART;TZID=UTC:20260213T090000
DTEND;TZID=UTC:20260213T180000
DTSTAMP:20260424T204239
CREATED:20241213T185636Z
LAST-MODIFIED:20241220T132415Z
UID:10001235-1770973200-1771005600@www.nictnact.it
SUMMARY:Help Desk Voltanict
DESCRIPTION:Hai dubbi\, domande o curiosità? Siamo qui per aiutarti! \nPuoi venire a trovarci presso la nostra sede: \n📍 Piazza Giacomo Matteotti n.3\, Catania \n🗓 Orari di apertura in sede (a partire dal 9 gennaio 2025): \nLunedì – Mercoledì – Venerdì  \nOrari 9:00 – 12:00 | 15:00 – 18:00 \n\n\n\nNON PUOI PARTECIPARE IN SEDE?\nNESSUN PROBLEMA!\n\n\n\n\n\nIl nostro help desk online è sempre disponibile nei giorni e orari indicati. \nPuoi collegarti comodamente online tramite Zoom \nLunedì – Mercoledì – Venerdì  \nOrari 9:00 – 12:00 | 15:00 – 18:00 \nCollegati con Zoom a questo link -> https://us06web.zoom.us/j/81408582092 \n 
URL:https://www.nictnact.it/event/help-desk-voltanict-2/2026-02-13/
LOCATION:piazza matteotti 3 Catania
CATEGORIES:Help Desk
END:VEVENT
BEGIN:VEVENT
DTSTART;TZID=UTC:20260216T090000
DTEND;TZID=UTC:20260216T180000
DTSTAMP:20260424T204239
CREATED:20241213T185636Z
LAST-MODIFIED:20241220T132415Z
UID:10001236-1771232400-1771264800@www.nictnact.it
SUMMARY:Help Desk Voltanict
DESCRIPTION:Hai dubbi\, domande o curiosità? Siamo qui per aiutarti! \nPuoi venire a trovarci presso la nostra sede: \n📍 Piazza Giacomo Matteotti n.3\, Catania \n🗓 Orari di apertura in sede (a partire dal 9 gennaio 2025): \nLunedì – Mercoledì – Venerdì  \nOrari 9:00 – 12:00 | 15:00 – 18:00 \n\n\n\nNON PUOI PARTECIPARE IN SEDE?\nNESSUN PROBLEMA!\n\n\n\n\n\nIl nostro help desk online è sempre disponibile nei giorni e orari indicati. \nPuoi collegarti comodamente online tramite Zoom \nLunedì – Mercoledì – Venerdì  \nOrari 9:00 – 12:00 | 15:00 – 18:00 \nCollegati con Zoom a questo link -> https://us06web.zoom.us/j/81408582092 \n 
URL:https://www.nictnact.it/event/help-desk-voltanict-2/2026-02-16/
LOCATION:piazza matteotti 3 Catania
CATEGORIES:Help Desk
END:VEVENT
BEGIN:VEVENT
DTSTART;TZID=UTC:20260218T090000
DTEND;TZID=UTC:20260218T180000
DTSTAMP:20260424T204239
CREATED:20241213T185636Z
LAST-MODIFIED:20241220T132415Z
UID:10001237-1771405200-1771437600@www.nictnact.it
SUMMARY:Help Desk Voltanict
DESCRIPTION:Hai dubbi\, domande o curiosità? Siamo qui per aiutarti! \nPuoi venire a trovarci presso la nostra sede: \n📍 Piazza Giacomo Matteotti n.3\, Catania \n🗓 Orari di apertura in sede (a partire dal 9 gennaio 2025): \nLunedì – Mercoledì – Venerdì  \nOrari 9:00 – 12:00 | 15:00 – 18:00 \n\n\n\nNON PUOI PARTECIPARE IN SEDE?\nNESSUN PROBLEMA!\n\n\n\n\n\nIl nostro help desk online è sempre disponibile nei giorni e orari indicati. \nPuoi collegarti comodamente online tramite Zoom \nLunedì – Mercoledì – Venerdì  \nOrari 9:00 – 12:00 | 15:00 – 18:00 \nCollegati con Zoom a questo link -> https://us06web.zoom.us/j/81408582092 \n 
URL:https://www.nictnact.it/event/help-desk-voltanict-2/2026-02-18/
LOCATION:piazza matteotti 3 Catania
CATEGORIES:Help Desk
END:VEVENT
BEGIN:VEVENT
DTSTART;TZID=UTC:20260220T090000
DTEND;TZID=UTC:20260220T180000
DTSTAMP:20260424T204239
CREATED:20241213T185636Z
LAST-MODIFIED:20241220T132415Z
UID:10001238-1771578000-1771610400@www.nictnact.it
SUMMARY:Help Desk Voltanict
DESCRIPTION:Hai dubbi\, domande o curiosità? Siamo qui per aiutarti! \nPuoi venire a trovarci presso la nostra sede: \n📍 Piazza Giacomo Matteotti n.3\, Catania \n🗓 Orari di apertura in sede (a partire dal 9 gennaio 2025): \nLunedì – Mercoledì – Venerdì  \nOrari 9:00 – 12:00 | 15:00 – 18:00 \n\n\n\nNON PUOI PARTECIPARE IN SEDE?\nNESSUN PROBLEMA!\n\n\n\n\n\nIl nostro help desk online è sempre disponibile nei giorni e orari indicati. \nPuoi collegarti comodamente online tramite Zoom \nLunedì – Mercoledì – Venerdì  \nOrari 9:00 – 12:00 | 15:00 – 18:00 \nCollegati con Zoom a questo link -> https://us06web.zoom.us/j/81408582092 \n 
URL:https://www.nictnact.it/event/help-desk-voltanict-2/2026-02-20/
LOCATION:piazza matteotti 3 Catania
CATEGORIES:Help Desk
END:VEVENT
BEGIN:VEVENT
DTSTART;TZID=UTC:20260223T090000
DTEND;TZID=UTC:20260223T180000
DTSTAMP:20260424T204239
CREATED:20241213T185636Z
LAST-MODIFIED:20241220T132415Z
UID:10001239-1771837200-1771869600@www.nictnact.it
SUMMARY:Help Desk Voltanict
DESCRIPTION:Hai dubbi\, domande o curiosità? Siamo qui per aiutarti! \nPuoi venire a trovarci presso la nostra sede: \n📍 Piazza Giacomo Matteotti n.3\, Catania \n🗓 Orari di apertura in sede (a partire dal 9 gennaio 2025): \nLunedì – Mercoledì – Venerdì  \nOrari 9:00 – 12:00 | 15:00 – 18:00 \n\n\n\nNON PUOI PARTECIPARE IN SEDE?\nNESSUN PROBLEMA!\n\n\n\n\n\nIl nostro help desk online è sempre disponibile nei giorni e orari indicati. \nPuoi collegarti comodamente online tramite Zoom \nLunedì – Mercoledì – Venerdì  \nOrari 9:00 – 12:00 | 15:00 – 18:00 \nCollegati con Zoom a questo link -> https://us06web.zoom.us/j/81408582092 \n 
URL:https://www.nictnact.it/event/help-desk-voltanict-2/2026-02-23/
LOCATION:piazza matteotti 3 Catania
CATEGORIES:Help Desk
END:VEVENT
BEGIN:VEVENT
DTSTART;TZID=UTC:20260225T090000
DTEND;TZID=UTC:20260225T180000
DTSTAMP:20260424T204239
CREATED:20241213T185636Z
LAST-MODIFIED:20241220T132415Z
UID:10001240-1772010000-1772042400@www.nictnact.it
SUMMARY:Help Desk Voltanict
DESCRIPTION:Hai dubbi\, domande o curiosità? Siamo qui per aiutarti! \nPuoi venire a trovarci presso la nostra sede: \n📍 Piazza Giacomo Matteotti n.3\, Catania \n🗓 Orari di apertura in sede (a partire dal 9 gennaio 2025): \nLunedì – Mercoledì – Venerdì  \nOrari 9:00 – 12:00 | 15:00 – 18:00 \n\n\n\nNON PUOI PARTECIPARE IN SEDE?\nNESSUN PROBLEMA!\n\n\n\n\n\nIl nostro help desk online è sempre disponibile nei giorni e orari indicati. \nPuoi collegarti comodamente online tramite Zoom \nLunedì – Mercoledì – Venerdì  \nOrari 9:00 – 12:00 | 15:00 – 18:00 \nCollegati con Zoom a questo link -> https://us06web.zoom.us/j/81408582092 \n 
URL:https://www.nictnact.it/event/help-desk-voltanict-2/2026-02-25/
LOCATION:piazza matteotti 3 Catania
CATEGORIES:Help Desk
END:VEVENT
BEGIN:VEVENT
DTSTART;TZID=UTC:20260227T090000
DTEND;TZID=UTC:20260227T180000
DTSTAMP:20260424T204239
CREATED:20241213T185636Z
LAST-MODIFIED:20241220T132415Z
UID:10001241-1772182800-1772215200@www.nictnact.it
SUMMARY:Help Desk Voltanict
DESCRIPTION:Hai dubbi\, domande o curiosità? Siamo qui per aiutarti! \nPuoi venire a trovarci presso la nostra sede: \n📍 Piazza Giacomo Matteotti n.3\, Catania \n🗓 Orari di apertura in sede (a partire dal 9 gennaio 2025): \nLunedì – Mercoledì – Venerdì  \nOrari 9:00 – 12:00 | 15:00 – 18:00 \n\n\n\nNON PUOI PARTECIPARE IN SEDE?\nNESSUN PROBLEMA!\n\n\n\n\n\nIl nostro help desk online è sempre disponibile nei giorni e orari indicati. \nPuoi collegarti comodamente online tramite Zoom \nLunedì – Mercoledì – Venerdì  \nOrari 9:00 – 12:00 | 15:00 – 18:00 \nCollegati con Zoom a questo link -> https://us06web.zoom.us/j/81408582092 \n 
URL:https://www.nictnact.it/event/help-desk-voltanict-2/2026-02-27/
LOCATION:piazza matteotti 3 Catania
CATEGORIES:Help Desk
END:VEVENT
END:VCALENDAR