BEGIN:VCALENDAR
VERSION:2.0
PRODID:-//Nict Nact - ECPv6.3.5//NONSGML v1.0//EN
CALSCALE:GREGORIAN
METHOD:PUBLISH
X-ORIGINAL-URL:https://www.nictnact.it
X-WR-CALDESC:Eventi per Nict Nact
REFRESH-INTERVAL;VALUE=DURATION:PT1H
X-Robots-Tag:noindex
X-PUBLISHED-TTL:PT1H
BEGIN:VTIMEZONE
TZID:UTC
BEGIN:STANDARD
TZOFFSETFROM:+0000
TZOFFSETTO:+0000
TZNAME:UTC
DTSTART:20270101T000000
END:STANDARD
END:VTIMEZONE
BEGIN:VEVENT
DTSTART;TZID=UTC:20270802T090000
DTEND;TZID=UTC:20270802T180000
DTSTAMP:20260425T153129
CREATED:20241213T185636Z
LAST-MODIFIED:20241220T132415Z
UID:10001464-1817197200-1817229600@www.nictnact.it
SUMMARY:Help Desk Voltanict
DESCRIPTION:Hai dubbi\, domande o curiosità? Siamo qui per aiutarti! \nPuoi venire a trovarci presso la nostra sede: \n📍 Piazza Giacomo Matteotti n.3\, Catania \n🗓 Orari di apertura in sede (a partire dal 9 gennaio 2025): \nLunedì – Mercoledì – Venerdì  \nOrari 9:00 – 12:00 | 15:00 – 18:00 \n\n\n\nNON PUOI PARTECIPARE IN SEDE?\nNESSUN PROBLEMA!\n\n\n\n\n\nIl nostro help desk online è sempre disponibile nei giorni e orari indicati. \nPuoi collegarti comodamente online tramite Zoom \nLunedì – Mercoledì – Venerdì  \nOrari 9:00 – 12:00 | 15:00 – 18:00 \nCollegati con Zoom a questo link -> https://us06web.zoom.us/j/81408582092 \n 
URL:https://www.nictnact.it/event/help-desk-voltanict-2/2027-08-02/
LOCATION:piazza matteotti 3 Catania
CATEGORIES:Help Desk
END:VEVENT
BEGIN:VEVENT
DTSTART;TZID=UTC:20270804T090000
DTEND;TZID=UTC:20270804T180000
DTSTAMP:20260425T153129
CREATED:20241213T185636Z
LAST-MODIFIED:20241220T132415Z
UID:10001465-1817370000-1817402400@www.nictnact.it
SUMMARY:Help Desk Voltanict
DESCRIPTION:Hai dubbi\, domande o curiosità? Siamo qui per aiutarti! \nPuoi venire a trovarci presso la nostra sede: \n📍 Piazza Giacomo Matteotti n.3\, Catania \n🗓 Orari di apertura in sede (a partire dal 9 gennaio 2025): \nLunedì – Mercoledì – Venerdì  \nOrari 9:00 – 12:00 | 15:00 – 18:00 \n\n\n\nNON PUOI PARTECIPARE IN SEDE?\nNESSUN PROBLEMA!\n\n\n\n\n\nIl nostro help desk online è sempre disponibile nei giorni e orari indicati. \nPuoi collegarti comodamente online tramite Zoom \nLunedì – Mercoledì – Venerdì  \nOrari 9:00 – 12:00 | 15:00 – 18:00 \nCollegati con Zoom a questo link -> https://us06web.zoom.us/j/81408582092 \n 
URL:https://www.nictnact.it/event/help-desk-voltanict-2/2027-08-04/
LOCATION:piazza matteotti 3 Catania
CATEGORIES:Help Desk
END:VEVENT
BEGIN:VEVENT
DTSTART;TZID=UTC:20270806T090000
DTEND;TZID=UTC:20270806T180000
DTSTAMP:20260425T153129
CREATED:20241213T185636Z
LAST-MODIFIED:20241220T132415Z
UID:10001466-1817542800-1817575200@www.nictnact.it
SUMMARY:Help Desk Voltanict
DESCRIPTION:Hai dubbi\, domande o curiosità? Siamo qui per aiutarti! \nPuoi venire a trovarci presso la nostra sede: \n📍 Piazza Giacomo Matteotti n.3\, Catania \n🗓 Orari di apertura in sede (a partire dal 9 gennaio 2025): \nLunedì – Mercoledì – Venerdì  \nOrari 9:00 – 12:00 | 15:00 – 18:00 \n\n\n\nNON PUOI PARTECIPARE IN SEDE?\nNESSUN PROBLEMA!\n\n\n\n\n\nIl nostro help desk online è sempre disponibile nei giorni e orari indicati. \nPuoi collegarti comodamente online tramite Zoom \nLunedì – Mercoledì – Venerdì  \nOrari 9:00 – 12:00 | 15:00 – 18:00 \nCollegati con Zoom a questo link -> https://us06web.zoom.us/j/81408582092 \n 
URL:https://www.nictnact.it/event/help-desk-voltanict-2/2027-08-06/
LOCATION:piazza matteotti 3 Catania
CATEGORIES:Help Desk
END:VEVENT
BEGIN:VEVENT
DTSTART;TZID=UTC:20270809T090000
DTEND;TZID=UTC:20270809T180000
DTSTAMP:20260425T153129
CREATED:20241213T185636Z
LAST-MODIFIED:20241220T132415Z
UID:10001467-1817802000-1817834400@www.nictnact.it
SUMMARY:Help Desk Voltanict
DESCRIPTION:Hai dubbi\, domande o curiosità? Siamo qui per aiutarti! \nPuoi venire a trovarci presso la nostra sede: \n📍 Piazza Giacomo Matteotti n.3\, Catania \n🗓 Orari di apertura in sede (a partire dal 9 gennaio 2025): \nLunedì – Mercoledì – Venerdì  \nOrari 9:00 – 12:00 | 15:00 – 18:00 \n\n\n\nNON PUOI PARTECIPARE IN SEDE?\nNESSUN PROBLEMA!\n\n\n\n\n\nIl nostro help desk online è sempre disponibile nei giorni e orari indicati. \nPuoi collegarti comodamente online tramite Zoom \nLunedì – Mercoledì – Venerdì  \nOrari 9:00 – 12:00 | 15:00 – 18:00 \nCollegati con Zoom a questo link -> https://us06web.zoom.us/j/81408582092 \n 
URL:https://www.nictnact.it/event/help-desk-voltanict-2/2027-08-09/
LOCATION:piazza matteotti 3 Catania
CATEGORIES:Help Desk
END:VEVENT
BEGIN:VEVENT
DTSTART;TZID=UTC:20270811T090000
DTEND;TZID=UTC:20270811T180000
DTSTAMP:20260425T153129
CREATED:20241213T185636Z
LAST-MODIFIED:20241220T132415Z
UID:10001468-1817974800-1818007200@www.nictnact.it
SUMMARY:Help Desk Voltanict
DESCRIPTION:Hai dubbi\, domande o curiosità? Siamo qui per aiutarti! \nPuoi venire a trovarci presso la nostra sede: \n📍 Piazza Giacomo Matteotti n.3\, Catania \n🗓 Orari di apertura in sede (a partire dal 9 gennaio 2025): \nLunedì – Mercoledì – Venerdì  \nOrari 9:00 – 12:00 | 15:00 – 18:00 \n\n\n\nNON PUOI PARTECIPARE IN SEDE?\nNESSUN PROBLEMA!\n\n\n\n\n\nIl nostro help desk online è sempre disponibile nei giorni e orari indicati. \nPuoi collegarti comodamente online tramite Zoom \nLunedì – Mercoledì – Venerdì  \nOrari 9:00 – 12:00 | 15:00 – 18:00 \nCollegati con Zoom a questo link -> https://us06web.zoom.us/j/81408582092 \n 
URL:https://www.nictnact.it/event/help-desk-voltanict-2/2027-08-11/
LOCATION:piazza matteotti 3 Catania
CATEGORIES:Help Desk
END:VEVENT
BEGIN:VEVENT
DTSTART;TZID=UTC:20270813T090000
DTEND;TZID=UTC:20270813T180000
DTSTAMP:20260425T153129
CREATED:20241213T185636Z
LAST-MODIFIED:20241220T132415Z
UID:10001469-1818147600-1818180000@www.nictnact.it
SUMMARY:Help Desk Voltanict
DESCRIPTION:Hai dubbi\, domande o curiosità? Siamo qui per aiutarti! \nPuoi venire a trovarci presso la nostra sede: \n📍 Piazza Giacomo Matteotti n.3\, Catania \n🗓 Orari di apertura in sede (a partire dal 9 gennaio 2025): \nLunedì – Mercoledì – Venerdì  \nOrari 9:00 – 12:00 | 15:00 – 18:00 \n\n\n\nNON PUOI PARTECIPARE IN SEDE?\nNESSUN PROBLEMA!\n\n\n\n\n\nIl nostro help desk online è sempre disponibile nei giorni e orari indicati. \nPuoi collegarti comodamente online tramite Zoom \nLunedì – Mercoledì – Venerdì  \nOrari 9:00 – 12:00 | 15:00 – 18:00 \nCollegati con Zoom a questo link -> https://us06web.zoom.us/j/81408582092 \n 
URL:https://www.nictnact.it/event/help-desk-voltanict-2/2027-08-13/
LOCATION:piazza matteotti 3 Catania
CATEGORIES:Help Desk
END:VEVENT
BEGIN:VEVENT
DTSTART;TZID=UTC:20270816T090000
DTEND;TZID=UTC:20270816T180000
DTSTAMP:20260425T153129
CREATED:20241213T185636Z
LAST-MODIFIED:20241220T132415Z
UID:10001470-1818406800-1818439200@www.nictnact.it
SUMMARY:Help Desk Voltanict
DESCRIPTION:Hai dubbi\, domande o curiosità? Siamo qui per aiutarti! \nPuoi venire a trovarci presso la nostra sede: \n📍 Piazza Giacomo Matteotti n.3\, Catania \n🗓 Orari di apertura in sede (a partire dal 9 gennaio 2025): \nLunedì – Mercoledì – Venerdì  \nOrari 9:00 – 12:00 | 15:00 – 18:00 \n\n\n\nNON PUOI PARTECIPARE IN SEDE?\nNESSUN PROBLEMA!\n\n\n\n\n\nIl nostro help desk online è sempre disponibile nei giorni e orari indicati. \nPuoi collegarti comodamente online tramite Zoom \nLunedì – Mercoledì – Venerdì  \nOrari 9:00 – 12:00 | 15:00 – 18:00 \nCollegati con Zoom a questo link -> https://us06web.zoom.us/j/81408582092 \n 
URL:https://www.nictnact.it/event/help-desk-voltanict-2/2027-08-16/
LOCATION:piazza matteotti 3 Catania
CATEGORIES:Help Desk
END:VEVENT
BEGIN:VEVENT
DTSTART;TZID=UTC:20270818T090000
DTEND;TZID=UTC:20270818T180000
DTSTAMP:20260425T153129
CREATED:20241213T185636Z
LAST-MODIFIED:20241220T132415Z
UID:10001471-1818579600-1818612000@www.nictnact.it
SUMMARY:Help Desk Voltanict
DESCRIPTION:Hai dubbi\, domande o curiosità? Siamo qui per aiutarti! \nPuoi venire a trovarci presso la nostra sede: \n📍 Piazza Giacomo Matteotti n.3\, Catania \n🗓 Orari di apertura in sede (a partire dal 9 gennaio 2025): \nLunedì – Mercoledì – Venerdì  \nOrari 9:00 – 12:00 | 15:00 – 18:00 \n\n\n\nNON PUOI PARTECIPARE IN SEDE?\nNESSUN PROBLEMA!\n\n\n\n\n\nIl nostro help desk online è sempre disponibile nei giorni e orari indicati. \nPuoi collegarti comodamente online tramite Zoom \nLunedì – Mercoledì – Venerdì  \nOrari 9:00 – 12:00 | 15:00 – 18:00 \nCollegati con Zoom a questo link -> https://us06web.zoom.us/j/81408582092 \n 
URL:https://www.nictnact.it/event/help-desk-voltanict-2/2027-08-18/
LOCATION:piazza matteotti 3 Catania
CATEGORIES:Help Desk
END:VEVENT
BEGIN:VEVENT
DTSTART;TZID=UTC:20270820T090000
DTEND;TZID=UTC:20270820T180000
DTSTAMP:20260425T153129
CREATED:20241213T185636Z
LAST-MODIFIED:20241220T132415Z
UID:10001472-1818752400-1818784800@www.nictnact.it
SUMMARY:Help Desk Voltanict
DESCRIPTION:Hai dubbi\, domande o curiosità? Siamo qui per aiutarti! \nPuoi venire a trovarci presso la nostra sede: \n📍 Piazza Giacomo Matteotti n.3\, Catania \n🗓 Orari di apertura in sede (a partire dal 9 gennaio 2025): \nLunedì – Mercoledì – Venerdì  \nOrari 9:00 – 12:00 | 15:00 – 18:00 \n\n\n\nNON PUOI PARTECIPARE IN SEDE?\nNESSUN PROBLEMA!\n\n\n\n\n\nIl nostro help desk online è sempre disponibile nei giorni e orari indicati. \nPuoi collegarti comodamente online tramite Zoom \nLunedì – Mercoledì – Venerdì  \nOrari 9:00 – 12:00 | 15:00 – 18:00 \nCollegati con Zoom a questo link -> https://us06web.zoom.us/j/81408582092 \n 
URL:https://www.nictnact.it/event/help-desk-voltanict-2/2027-08-20/
LOCATION:piazza matteotti 3 Catania
CATEGORIES:Help Desk
END:VEVENT
BEGIN:VEVENT
DTSTART;TZID=UTC:20270823T090000
DTEND;TZID=UTC:20270823T180000
DTSTAMP:20260425T153129
CREATED:20241213T185636Z
LAST-MODIFIED:20241220T132415Z
UID:10001473-1819011600-1819044000@www.nictnact.it
SUMMARY:Help Desk Voltanict
DESCRIPTION:Hai dubbi\, domande o curiosità? Siamo qui per aiutarti! \nPuoi venire a trovarci presso la nostra sede: \n📍 Piazza Giacomo Matteotti n.3\, Catania \n🗓 Orari di apertura in sede (a partire dal 9 gennaio 2025): \nLunedì – Mercoledì – Venerdì  \nOrari 9:00 – 12:00 | 15:00 – 18:00 \n\n\n\nNON PUOI PARTECIPARE IN SEDE?\nNESSUN PROBLEMA!\n\n\n\n\n\nIl nostro help desk online è sempre disponibile nei giorni e orari indicati. \nPuoi collegarti comodamente online tramite Zoom \nLunedì – Mercoledì – Venerdì  \nOrari 9:00 – 12:00 | 15:00 – 18:00 \nCollegati con Zoom a questo link -> https://us06web.zoom.us/j/81408582092 \n 
URL:https://www.nictnact.it/event/help-desk-voltanict-2/2027-08-23/
LOCATION:piazza matteotti 3 Catania
CATEGORIES:Help Desk
END:VEVENT
BEGIN:VEVENT
DTSTART;TZID=UTC:20270825T090000
DTEND;TZID=UTC:20270825T180000
DTSTAMP:20260425T153129
CREATED:20241213T185636Z
LAST-MODIFIED:20241220T132415Z
UID:10001474-1819184400-1819216800@www.nictnact.it
SUMMARY:Help Desk Voltanict
DESCRIPTION:Hai dubbi\, domande o curiosità? Siamo qui per aiutarti! \nPuoi venire a trovarci presso la nostra sede: \n📍 Piazza Giacomo Matteotti n.3\, Catania \n🗓 Orari di apertura in sede (a partire dal 9 gennaio 2025): \nLunedì – Mercoledì – Venerdì  \nOrari 9:00 – 12:00 | 15:00 – 18:00 \n\n\n\nNON PUOI PARTECIPARE IN SEDE?\nNESSUN PROBLEMA!\n\n\n\n\n\nIl nostro help desk online è sempre disponibile nei giorni e orari indicati. \nPuoi collegarti comodamente online tramite Zoom \nLunedì – Mercoledì – Venerdì  \nOrari 9:00 – 12:00 | 15:00 – 18:00 \nCollegati con Zoom a questo link -> https://us06web.zoom.us/j/81408582092 \n 
URL:https://www.nictnact.it/event/help-desk-voltanict-2/2027-08-25/
LOCATION:piazza matteotti 3 Catania
CATEGORIES:Help Desk
END:VEVENT
BEGIN:VEVENT
DTSTART;TZID=UTC:20270827T090000
DTEND;TZID=UTC:20270827T180000
DTSTAMP:20260425T153129
CREATED:20241213T185636Z
LAST-MODIFIED:20241220T132415Z
UID:10001475-1819357200-1819389600@www.nictnact.it
SUMMARY:Help Desk Voltanict
DESCRIPTION:Hai dubbi\, domande o curiosità? Siamo qui per aiutarti! \nPuoi venire a trovarci presso la nostra sede: \n📍 Piazza Giacomo Matteotti n.3\, Catania \n🗓 Orari di apertura in sede (a partire dal 9 gennaio 2025): \nLunedì – Mercoledì – Venerdì  \nOrari 9:00 – 12:00 | 15:00 – 18:00 \n\n\n\nNON PUOI PARTECIPARE IN SEDE?\nNESSUN PROBLEMA!\n\n\n\n\n\nIl nostro help desk online è sempre disponibile nei giorni e orari indicati. \nPuoi collegarti comodamente online tramite Zoom \nLunedì – Mercoledì – Venerdì  \nOrari 9:00 – 12:00 | 15:00 – 18:00 \nCollegati con Zoom a questo link -> https://us06web.zoom.us/j/81408582092 \n 
URL:https://www.nictnact.it/event/help-desk-voltanict-2/2027-08-27/
LOCATION:piazza matteotti 3 Catania
CATEGORIES:Help Desk
END:VEVENT
BEGIN:VEVENT
DTSTART;TZID=UTC:20270830T090000
DTEND;TZID=UTC:20270830T180000
DTSTAMP:20260425T153129
CREATED:20241213T185636Z
LAST-MODIFIED:20241220T132415Z
UID:10001476-1819616400-1819648800@www.nictnact.it
SUMMARY:Help Desk Voltanict
DESCRIPTION:Hai dubbi\, domande o curiosità? Siamo qui per aiutarti! \nPuoi venire a trovarci presso la nostra sede: \n📍 Piazza Giacomo Matteotti n.3\, Catania \n🗓 Orari di apertura in sede (a partire dal 9 gennaio 2025): \nLunedì – Mercoledì – Venerdì  \nOrari 9:00 – 12:00 | 15:00 – 18:00 \n\n\n\nNON PUOI PARTECIPARE IN SEDE?\nNESSUN PROBLEMA!\n\n\n\n\n\nIl nostro help desk online è sempre disponibile nei giorni e orari indicati. \nPuoi collegarti comodamente online tramite Zoom \nLunedì – Mercoledì – Venerdì  \nOrari 9:00 – 12:00 | 15:00 – 18:00 \nCollegati con Zoom a questo link -> https://us06web.zoom.us/j/81408582092 \n 
URL:https://www.nictnact.it/event/help-desk-voltanict-2/2027-08-30/
LOCATION:piazza matteotti 3 Catania
CATEGORIES:Help Desk
END:VEVENT
END:VCALENDAR