BEGIN:VCALENDAR
VERSION:2.0
PRODID:-//Nict Nact - ECPv6.3.5//NONSGML v1.0//EN
CALSCALE:GREGORIAN
METHOD:PUBLISH
X-WR-CALNAME:Nict Nact
X-ORIGINAL-URL:https://www.nictnact.it
X-WR-CALDESC:Eventi per Nict Nact
REFRESH-INTERVAL;VALUE=DURATION:PT1H
X-Robots-Tag:noindex
X-PUBLISHED-TTL:PT1H
BEGIN:VTIMEZONE
TZID:UTC
BEGIN:STANDARD
TZOFFSETFROM:+0000
TZOFFSETTO:+0000
TZNAME:UTC
DTSTART:20260101T000000
END:STANDARD
END:VTIMEZONE
BEGIN:VEVENT
DTSTART;TZID=UTC:20260302T090000
DTEND;TZID=UTC:20260302T180000
DTSTAMP:20260424T192714
CREATED:20241213T185636Z
LAST-MODIFIED:20241220T132415Z
UID:10001242-1772442000-1772474400@www.nictnact.it
SUMMARY:Help Desk Voltanict
DESCRIPTION:Hai dubbi\, domande o curiosità? Siamo qui per aiutarti! \nPuoi venire a trovarci presso la nostra sede: \n📍 Piazza Giacomo Matteotti n.3\, Catania \n🗓 Orari di apertura in sede (a partire dal 9 gennaio 2025): \nLunedì – Mercoledì – Venerdì  \nOrari 9:00 – 12:00 | 15:00 – 18:00 \n\n\n\nNON PUOI PARTECIPARE IN SEDE?\nNESSUN PROBLEMA!\n\n\n\n\n\nIl nostro help desk online è sempre disponibile nei giorni e orari indicati. \nPuoi collegarti comodamente online tramite Zoom \nLunedì – Mercoledì – Venerdì  \nOrari 9:00 – 12:00 | 15:00 – 18:00 \nCollegati con Zoom a questo link -> https://us06web.zoom.us/j/81408582092 \n 
URL:https://www.nictnact.it/event/help-desk-voltanict-2/2026-03-02/
LOCATION:piazza matteotti 3 Catania
CATEGORIES:Help Desk
END:VEVENT
BEGIN:VEVENT
DTSTART;TZID=UTC:20260304T090000
DTEND;TZID=UTC:20260304T180000
DTSTAMP:20260424T192714
CREATED:20241213T185636Z
LAST-MODIFIED:20241220T132415Z
UID:10001243-1772614800-1772647200@www.nictnact.it
SUMMARY:Help Desk Voltanict
DESCRIPTION:Hai dubbi\, domande o curiosità? Siamo qui per aiutarti! \nPuoi venire a trovarci presso la nostra sede: \n📍 Piazza Giacomo Matteotti n.3\, Catania \n🗓 Orari di apertura in sede (a partire dal 9 gennaio 2025): \nLunedì – Mercoledì – Venerdì  \nOrari 9:00 – 12:00 | 15:00 – 18:00 \n\n\n\nNON PUOI PARTECIPARE IN SEDE?\nNESSUN PROBLEMA!\n\n\n\n\n\nIl nostro help desk online è sempre disponibile nei giorni e orari indicati. \nPuoi collegarti comodamente online tramite Zoom \nLunedì – Mercoledì – Venerdì  \nOrari 9:00 – 12:00 | 15:00 – 18:00 \nCollegati con Zoom a questo link -> https://us06web.zoom.us/j/81408582092 \n 
URL:https://www.nictnact.it/event/help-desk-voltanict-2/2026-03-04/
LOCATION:piazza matteotti 3 Catania
CATEGORIES:Help Desk
END:VEVENT
BEGIN:VEVENT
DTSTART;TZID=UTC:20260306T090000
DTEND;TZID=UTC:20260306T180000
DTSTAMP:20260424T192714
CREATED:20241213T185636Z
LAST-MODIFIED:20241220T132415Z
UID:10001244-1772787600-1772820000@www.nictnact.it
SUMMARY:Help Desk Voltanict
DESCRIPTION:Hai dubbi\, domande o curiosità? Siamo qui per aiutarti! \nPuoi venire a trovarci presso la nostra sede: \n📍 Piazza Giacomo Matteotti n.3\, Catania \n🗓 Orari di apertura in sede (a partire dal 9 gennaio 2025): \nLunedì – Mercoledì – Venerdì  \nOrari 9:00 – 12:00 | 15:00 – 18:00 \n\n\n\nNON PUOI PARTECIPARE IN SEDE?\nNESSUN PROBLEMA!\n\n\n\n\n\nIl nostro help desk online è sempre disponibile nei giorni e orari indicati. \nPuoi collegarti comodamente online tramite Zoom \nLunedì – Mercoledì – Venerdì  \nOrari 9:00 – 12:00 | 15:00 – 18:00 \nCollegati con Zoom a questo link -> https://us06web.zoom.us/j/81408582092 \n 
URL:https://www.nictnact.it/event/help-desk-voltanict-2/2026-03-06/
LOCATION:piazza matteotti 3 Catania
CATEGORIES:Help Desk
END:VEVENT
BEGIN:VEVENT
DTSTART;TZID=UTC:20260309T090000
DTEND;TZID=UTC:20260309T180000
DTSTAMP:20260424T192714
CREATED:20241213T185636Z
LAST-MODIFIED:20241220T132415Z
UID:10001245-1773046800-1773079200@www.nictnact.it
SUMMARY:Help Desk Voltanict
DESCRIPTION:Hai dubbi\, domande o curiosità? Siamo qui per aiutarti! \nPuoi venire a trovarci presso la nostra sede: \n📍 Piazza Giacomo Matteotti n.3\, Catania \n🗓 Orari di apertura in sede (a partire dal 9 gennaio 2025): \nLunedì – Mercoledì – Venerdì  \nOrari 9:00 – 12:00 | 15:00 – 18:00 \n\n\n\nNON PUOI PARTECIPARE IN SEDE?\nNESSUN PROBLEMA!\n\n\n\n\n\nIl nostro help desk online è sempre disponibile nei giorni e orari indicati. \nPuoi collegarti comodamente online tramite Zoom \nLunedì – Mercoledì – Venerdì  \nOrari 9:00 – 12:00 | 15:00 – 18:00 \nCollegati con Zoom a questo link -> https://us06web.zoom.us/j/81408582092 \n 
URL:https://www.nictnact.it/event/help-desk-voltanict-2/2026-03-09/
LOCATION:piazza matteotti 3 Catania
CATEGORIES:Help Desk
END:VEVENT
BEGIN:VEVENT
DTSTART;TZID=UTC:20260311T090000
DTEND;TZID=UTC:20260311T180000
DTSTAMP:20260424T192714
CREATED:20241213T185636Z
LAST-MODIFIED:20241220T132415Z
UID:10001246-1773219600-1773252000@www.nictnact.it
SUMMARY:Help Desk Voltanict
DESCRIPTION:Hai dubbi\, domande o curiosità? Siamo qui per aiutarti! \nPuoi venire a trovarci presso la nostra sede: \n📍 Piazza Giacomo Matteotti n.3\, Catania \n🗓 Orari di apertura in sede (a partire dal 9 gennaio 2025): \nLunedì – Mercoledì – Venerdì  \nOrari 9:00 – 12:00 | 15:00 – 18:00 \n\n\n\nNON PUOI PARTECIPARE IN SEDE?\nNESSUN PROBLEMA!\n\n\n\n\n\nIl nostro help desk online è sempre disponibile nei giorni e orari indicati. \nPuoi collegarti comodamente online tramite Zoom \nLunedì – Mercoledì – Venerdì  \nOrari 9:00 – 12:00 | 15:00 – 18:00 \nCollegati con Zoom a questo link -> https://us06web.zoom.us/j/81408582092 \n 
URL:https://www.nictnact.it/event/help-desk-voltanict-2/2026-03-11/
LOCATION:piazza matteotti 3 Catania
CATEGORIES:Help Desk
END:VEVENT
BEGIN:VEVENT
DTSTART;TZID=UTC:20260313T090000
DTEND;TZID=UTC:20260313T180000
DTSTAMP:20260424T192714
CREATED:20241213T185636Z
LAST-MODIFIED:20241220T132415Z
UID:10001247-1773392400-1773424800@www.nictnact.it
SUMMARY:Help Desk Voltanict
DESCRIPTION:Hai dubbi\, domande o curiosità? Siamo qui per aiutarti! \nPuoi venire a trovarci presso la nostra sede: \n📍 Piazza Giacomo Matteotti n.3\, Catania \n🗓 Orari di apertura in sede (a partire dal 9 gennaio 2025): \nLunedì – Mercoledì – Venerdì  \nOrari 9:00 – 12:00 | 15:00 – 18:00 \n\n\n\nNON PUOI PARTECIPARE IN SEDE?\nNESSUN PROBLEMA!\n\n\n\n\n\nIl nostro help desk online è sempre disponibile nei giorni e orari indicati. \nPuoi collegarti comodamente online tramite Zoom \nLunedì – Mercoledì – Venerdì  \nOrari 9:00 – 12:00 | 15:00 – 18:00 \nCollegati con Zoom a questo link -> https://us06web.zoom.us/j/81408582092 \n 
URL:https://www.nictnact.it/event/help-desk-voltanict-2/2026-03-13/
LOCATION:piazza matteotti 3 Catania
CATEGORIES:Help Desk
END:VEVENT
BEGIN:VEVENT
DTSTART;TZID=UTC:20260316T090000
DTEND;TZID=UTC:20260316T180000
DTSTAMP:20260424T192714
CREATED:20241213T185636Z
LAST-MODIFIED:20241220T132415Z
UID:10001248-1773651600-1773684000@www.nictnact.it
SUMMARY:Help Desk Voltanict
DESCRIPTION:Hai dubbi\, domande o curiosità? Siamo qui per aiutarti! \nPuoi venire a trovarci presso la nostra sede: \n📍 Piazza Giacomo Matteotti n.3\, Catania \n🗓 Orari di apertura in sede (a partire dal 9 gennaio 2025): \nLunedì – Mercoledì – Venerdì  \nOrari 9:00 – 12:00 | 15:00 – 18:00 \n\n\n\nNON PUOI PARTECIPARE IN SEDE?\nNESSUN PROBLEMA!\n\n\n\n\n\nIl nostro help desk online è sempre disponibile nei giorni e orari indicati. \nPuoi collegarti comodamente online tramite Zoom \nLunedì – Mercoledì – Venerdì  \nOrari 9:00 – 12:00 | 15:00 – 18:00 \nCollegati con Zoom a questo link -> https://us06web.zoom.us/j/81408582092 \n 
URL:https://www.nictnact.it/event/help-desk-voltanict-2/2026-03-16/
LOCATION:piazza matteotti 3 Catania
CATEGORIES:Help Desk
END:VEVENT
BEGIN:VEVENT
DTSTART;TZID=UTC:20260318T090000
DTEND;TZID=UTC:20260318T180000
DTSTAMP:20260424T192714
CREATED:20241213T185636Z
LAST-MODIFIED:20241220T132415Z
UID:10001249-1773824400-1773856800@www.nictnact.it
SUMMARY:Help Desk Voltanict
DESCRIPTION:Hai dubbi\, domande o curiosità? Siamo qui per aiutarti! \nPuoi venire a trovarci presso la nostra sede: \n📍 Piazza Giacomo Matteotti n.3\, Catania \n🗓 Orari di apertura in sede (a partire dal 9 gennaio 2025): \nLunedì – Mercoledì – Venerdì  \nOrari 9:00 – 12:00 | 15:00 – 18:00 \n\n\n\nNON PUOI PARTECIPARE IN SEDE?\nNESSUN PROBLEMA!\n\n\n\n\n\nIl nostro help desk online è sempre disponibile nei giorni e orari indicati. \nPuoi collegarti comodamente online tramite Zoom \nLunedì – Mercoledì – Venerdì  \nOrari 9:00 – 12:00 | 15:00 – 18:00 \nCollegati con Zoom a questo link -> https://us06web.zoom.us/j/81408582092 \n 
URL:https://www.nictnact.it/event/help-desk-voltanict-2/2026-03-18/
LOCATION:piazza matteotti 3 Catania
CATEGORIES:Help Desk
END:VEVENT
BEGIN:VEVENT
DTSTART;TZID=UTC:20260320T090000
DTEND;TZID=UTC:20260320T180000
DTSTAMP:20260424T192714
CREATED:20241213T185636Z
LAST-MODIFIED:20241220T132415Z
UID:10001250-1773997200-1774029600@www.nictnact.it
SUMMARY:Help Desk Voltanict
DESCRIPTION:Hai dubbi\, domande o curiosità? Siamo qui per aiutarti! \nPuoi venire a trovarci presso la nostra sede: \n📍 Piazza Giacomo Matteotti n.3\, Catania \n🗓 Orari di apertura in sede (a partire dal 9 gennaio 2025): \nLunedì – Mercoledì – Venerdì  \nOrari 9:00 – 12:00 | 15:00 – 18:00 \n\n\n\nNON PUOI PARTECIPARE IN SEDE?\nNESSUN PROBLEMA!\n\n\n\n\n\nIl nostro help desk online è sempre disponibile nei giorni e orari indicati. \nPuoi collegarti comodamente online tramite Zoom \nLunedì – Mercoledì – Venerdì  \nOrari 9:00 – 12:00 | 15:00 – 18:00 \nCollegati con Zoom a questo link -> https://us06web.zoom.us/j/81408582092 \n 
URL:https://www.nictnact.it/event/help-desk-voltanict-2/2026-03-20/
LOCATION:piazza matteotti 3 Catania
CATEGORIES:Help Desk
END:VEVENT
BEGIN:VEVENT
DTSTART;TZID=UTC:20260323T090000
DTEND;TZID=UTC:20260323T180000
DTSTAMP:20260424T192714
CREATED:20241213T185636Z
LAST-MODIFIED:20241220T132415Z
UID:10001251-1774256400-1774288800@www.nictnact.it
SUMMARY:Help Desk Voltanict
DESCRIPTION:Hai dubbi\, domande o curiosità? Siamo qui per aiutarti! \nPuoi venire a trovarci presso la nostra sede: \n📍 Piazza Giacomo Matteotti n.3\, Catania \n🗓 Orari di apertura in sede (a partire dal 9 gennaio 2025): \nLunedì – Mercoledì – Venerdì  \nOrari 9:00 – 12:00 | 15:00 – 18:00 \n\n\n\nNON PUOI PARTECIPARE IN SEDE?\nNESSUN PROBLEMA!\n\n\n\n\n\nIl nostro help desk online è sempre disponibile nei giorni e orari indicati. \nPuoi collegarti comodamente online tramite Zoom \nLunedì – Mercoledì – Venerdì  \nOrari 9:00 – 12:00 | 15:00 – 18:00 \nCollegati con Zoom a questo link -> https://us06web.zoom.us/j/81408582092 \n 
URL:https://www.nictnact.it/event/help-desk-voltanict-2/2026-03-23/
LOCATION:piazza matteotti 3 Catania
CATEGORIES:Help Desk
END:VEVENT
BEGIN:VEVENT
DTSTART;TZID=UTC:20260325T090000
DTEND;TZID=UTC:20260325T180000
DTSTAMP:20260424T192714
CREATED:20241213T185636Z
LAST-MODIFIED:20241220T132415Z
UID:10001252-1774429200-1774461600@www.nictnact.it
SUMMARY:Help Desk Voltanict
DESCRIPTION:Hai dubbi\, domande o curiosità? Siamo qui per aiutarti! \nPuoi venire a trovarci presso la nostra sede: \n📍 Piazza Giacomo Matteotti n.3\, Catania \n🗓 Orari di apertura in sede (a partire dal 9 gennaio 2025): \nLunedì – Mercoledì – Venerdì  \nOrari 9:00 – 12:00 | 15:00 – 18:00 \n\n\n\nNON PUOI PARTECIPARE IN SEDE?\nNESSUN PROBLEMA!\n\n\n\n\n\nIl nostro help desk online è sempre disponibile nei giorni e orari indicati. \nPuoi collegarti comodamente online tramite Zoom \nLunedì – Mercoledì – Venerdì  \nOrari 9:00 – 12:00 | 15:00 – 18:00 \nCollegati con Zoom a questo link -> https://us06web.zoom.us/j/81408582092 \n 
URL:https://www.nictnact.it/event/help-desk-voltanict-2/2026-03-25/
LOCATION:piazza matteotti 3 Catania
CATEGORIES:Help Desk
END:VEVENT
BEGIN:VEVENT
DTSTART;TZID=UTC:20260327T090000
DTEND;TZID=UTC:20260327T180000
DTSTAMP:20260424T192714
CREATED:20241213T185636Z
LAST-MODIFIED:20241220T132415Z
UID:10001253-1774602000-1774634400@www.nictnact.it
SUMMARY:Help Desk Voltanict
DESCRIPTION:Hai dubbi\, domande o curiosità? Siamo qui per aiutarti! \nPuoi venire a trovarci presso la nostra sede: \n📍 Piazza Giacomo Matteotti n.3\, Catania \n🗓 Orari di apertura in sede (a partire dal 9 gennaio 2025): \nLunedì – Mercoledì – Venerdì  \nOrari 9:00 – 12:00 | 15:00 – 18:00 \n\n\n\nNON PUOI PARTECIPARE IN SEDE?\nNESSUN PROBLEMA!\n\n\n\n\n\nIl nostro help desk online è sempre disponibile nei giorni e orari indicati. \nPuoi collegarti comodamente online tramite Zoom \nLunedì – Mercoledì – Venerdì  \nOrari 9:00 – 12:00 | 15:00 – 18:00 \nCollegati con Zoom a questo link -> https://us06web.zoom.us/j/81408582092 \n 
URL:https://www.nictnact.it/event/help-desk-voltanict-2/2026-03-27/
LOCATION:piazza matteotti 3 Catania
CATEGORIES:Help Desk
END:VEVENT
BEGIN:VEVENT
DTSTART;TZID=UTC:20260330T090000
DTEND;TZID=UTC:20260330T180000
DTSTAMP:20260424T192714
CREATED:20241213T185636Z
LAST-MODIFIED:20241220T132415Z
UID:10001254-1774861200-1774893600@www.nictnact.it
SUMMARY:Help Desk Voltanict
DESCRIPTION:Hai dubbi\, domande o curiosità? Siamo qui per aiutarti! \nPuoi venire a trovarci presso la nostra sede: \n📍 Piazza Giacomo Matteotti n.3\, Catania \n🗓 Orari di apertura in sede (a partire dal 9 gennaio 2025): \nLunedì – Mercoledì – Venerdì  \nOrari 9:00 – 12:00 | 15:00 – 18:00 \n\n\n\nNON PUOI PARTECIPARE IN SEDE?\nNESSUN PROBLEMA!\n\n\n\n\n\nIl nostro help desk online è sempre disponibile nei giorni e orari indicati. \nPuoi collegarti comodamente online tramite Zoom \nLunedì – Mercoledì – Venerdì  \nOrari 9:00 – 12:00 | 15:00 – 18:00 \nCollegati con Zoom a questo link -> https://us06web.zoom.us/j/81408582092 \n 
URL:https://www.nictnact.it/event/help-desk-voltanict-2/2026-03-30/
LOCATION:piazza matteotti 3 Catania
CATEGORIES:Help Desk
END:VEVENT
END:VCALENDAR